BEGIN:VCALENDAR
VERSION:2.0
PRODID:-//Squarespace Inc/Squarespace 6//v6//EN
BEGIN:VEVENT
UID:56370fd7e4b0ef5e7b47162b@squarespace.com
DTSTAMP:20151117T224703Z
DTSTART:20160625T073000Z
DTEND:20160625T083000Z
SUMMARY:QANTAS WALLABIES v ENGLAND Sydney
GEO:-33.889067;151.225364
LOCATION:ALLIANZ Stadium
END:VEVENT
END:VCALENDAR
