BEGIN:VCALENDAR
VERSION:2.0
PRODID:-//Squarespace Inc/Squarespace 6//v6//EN
BEGIN:VEVENT
UID:56370c61e4b03c27a73bf044@squarespace.com
DTSTAMP:20151117T224400Z
DTSTART:20160611T073000Z
DTEND:20160611T083000Z
SUMMARY:QANTAS WALLABIES v ENGLAND Brisbane
GEO:-27.464845;153.009531
LOCATION:Suncorp Stadium
END:VEVENT
END:VCALENDAR
