BEGIN:VCALENDAR
VERSION:2.0
PRODID:-//Squarespace Inc/Squarespace 6//v6//EN
BEGIN:VEVENT
UID:56370f19e4b088f9f338a5cb@squarespace.com
DTSTAMP:20151117T224426Z
DTSTART:20160618T073000Z
DTEND:20160618T083000Z
SUMMARY:QANTAS WALLABIES v ENGLAND Melbourne
GEO:-37.825132;144.983782
LOCATION:AAMI Park
END:VEVENT
END:VCALENDAR
