BEGIN:VCALENDAR
VERSION:2.0
PRODID:-//Squarespace Inc/Squarespace 6//v6//EN
BEGIN:VEVENT
UID:57db7ba059cc680311bbb0e1@squarespace.com
DTSTAMP:20180628T000047Z
DTSTART:20170210T040000Z
DTEND:20170210T050000Z
SUMMARY:Guns n Roses Sydney
GEO:-33.847381;151.061074
LOCATION:ANZ Stadium
END:VEVENT
END:VCALENDAR
