BEGIN:VCALENDAR
VERSION:2.0
PRODID:-//Squarespace Inc/Squarespace 6//v6//EN
BEGIN:VEVENT
UID:5b35b3ab88251b0938fee011@squarespace.com
DTSTAMP:20190606T104136Z
DTSTART:20181206T070000Z
DTEND:20181206T110000Z
SUMMARY:Bon Jovi <br> Brisbane
GEO:-27.464845;153.009531
LOCATION:Suncorp Stadium
END:VEVENT
END:VCALENDAR
