BEGIN:VCALENDAR
VERSION:2.0
PRODID:-//Squarespace Inc/Squarespace 6//v6//EN
BEGIN:VEVENT
UID:5b34252f575d1fa05d12582c@squarespace.com
DTSTAMP:20180629T060629Z
DTSTART:20181208T070000Z
DTEND:20181208T110000Z
SUMMARY:Bon Jovi <br> Sydney
GEO:-33.847381;151.061074
LOCATION:ANZ Stadium
END:VEVENT
END:VCALENDAR
