BEGIN:VCALENDAR
VERSION:2.0
PRODID:-//Squarespace Inc/Squarespace 6//v6//EN
BEGIN:VEVENT
UID:57fde48ce741ea3910cc95eb@squarespace.com
DTSTAMP:20180524T014609Z
DTSTART:20180606T093000Z
DTEND:20180606T103000Z
SUMMARY:State of Origin Game I <br> Melbourne
GEO:-37.821545;144.983628
LOCATION:Melbourne Cricket Ground\, Brunton Avenue\, Melbourne\, VIC\, 3004
 \, Australia
END:VEVENT
END:VCALENDAR
