BEGIN:VCALENDAR
VERSION:2.0
PRODID:-//Squarespace Inc/Squarespace 6//v6//EN
BEGIN:VEVENT
UID:5cf8ede0d0e9890001bb179c@squarespace.com
DTSTAMP:20190611T021318Z
DTSTART:20191112T070000Z
DTEND:20191112T110000Z
SUMMARY: U2 'The Joshua Tree Tour' Brisbane
GEO:-27.464845;153.009531
LOCATION:Suncorp Stadium
END:VEVENT
END:VCALENDAR
