BEGIN:VCALENDAR
VERSION:2.0
PRODID:-//Squarespace Inc/Squarespace 6//v6//EN
BEGIN:VEVENT
UID:5aa89a91419202c439237b5b@squarespace.com
DTSTAMP:20190405T011218Z
DTSTART:20191101T233000Z
DTEND:20191102T113000Z
SUMMARY: AAMI VICTORIA DERBY DAY  FLEMINGTON\, MELBOURNE 
GEO:-37.786666;144.919519
LOCATION:Flemington\, 448 Epsom Rd\, Flemington\, VIC\, 3031\, Australia
END:VEVENT
END:VCALENDAR
