BEGIN:VCALENDAR
VERSION:2.0
PRODID:-//Squarespace Inc/Squarespace 6//v6//EN
BEGIN:VEVENT
UID:5536166ee4b0a48fd272b5a2@squarespace.com
DTSTAMP:20151117T224613Z
DTSTART:20151104T083000Z
DTEND:20151104T113000Z
SUMMARY:AC/DC WORLD TOUR Sydney
GEO:-33.849317;151.06211
LOCATION:ANZ Stadium\, Edwin Flack Ave\, Sydney Olympic Park\, NSW\, 2127\, 
 Australia
END:VEVENT
END:VCALENDAR
