BEGIN:VCALENDAR
VERSION:2.0
PRODID:-//Squarespace Inc/Squarespace 6//v6//EN
BEGIN:VEVENT
UID:574ce16fb6aa60d843aa9573@squarespace.com
DTSTAMP:20170301T233120Z
DTSTART:20170715T010000Z
DTEND:20170715T020000Z
SUMMARY:Arsenal Tour <br> Sydney
GEO:-33.849317;151.06211
LOCATION:ANZ Stadium\, Edwin Flack Ave\, Sydney Olympic Park NSW 2127\, Aus
 tralia
END:VEVENT
END:VCALENDAR
