BEGIN:VCALENDAR
VERSION:2.0
PRODID:-//Squarespace Inc/Squarespace 6//v6//EN
BEGIN:VEVENT
UID:54655da8e4b0802f920b3428@squarespace.com
DTSTAMP:20160222T223532Z
DTSTART:20160312T020000Z
DTEND:20160312T030000Z
SUMMARY:Auckland Cup Day
GEO:-36.89834;174.825326
LOCATION:Ellerslie Garden\, Ellerslie Garden\, Auckland\, New Zealand
END:VEVENT
END:VCALENDAR
