BEGIN:VCALENDAR
VERSION:2.0
PRODID:-//Squarespace Inc/Squarespace 6//v6//EN
BEGIN:VEVENT
UID:5e30d9b1db180f2ece40219b@squarespace.com
DTSTAMP:20200131T034713Z
DTSTART:20200829T083000Z
DTEND:20200829T112959Z
SUMMARY:QANTAS WALLABIES v SOUTH AFRICA – PERTH
GEO:-31.951171;115.889015
LOCATION:Optus Stadium
END:VEVENT
END:VCALENDAR
