BEGIN:VCALENDAR
VERSION:2.0
PRODID:-//Squarespace Inc/Squarespace 6//v6//EN
BEGIN:VEVENT
UID:544dd74ee4b01e689a1879a6@squarespace.com
DTSTAMP:20190910T024857Z
DTSTART:20200312T230000Z
DTEND:20200315T050000Z
SUMMARY:Formula 1 Australian Grand Prix
GEO:-37.842632;144.977705
LOCATION:Albert Park\, St Kilda Rd\, Melbourne\, VIC\, Australia
END:VEVENT
END:VCALENDAR
