BEGIN:VCALENDAR
VERSION:2.0
PRODID:-//Squarespace Inc/Squarespace 6//v6//EN
BEGIN:VEVENT
UID:58abbcc64402431f405f2e14@squarespace.com
DTSTAMP:20170301T233359Z
DTSTART:20170609T053000Z
DTEND:20170609T063000Z
SUMMARY:BRAZIL VS ARGENTINA
GEO:-37.821483;144.983508
LOCATION:MCG\, Brunton Avenue\, Melbourne\, VIC\, 3004\, Australia
END:VEVENT
END:VCALENDAR
