BEGIN:VCALENDAR
VERSION:2.0
PRODID:-//Squarespace Inc/Squarespace 6//v6//EN
BEGIN:VEVENT
UID:547be8aee4b066b3423f67ff@squarespace.com
DTSTAMP:20150513T222735Z
DTSTART:20160325T130000Z
DTEND:20160325T140000Z
SUMMARY:Dubai World Cup of Racing
GEO:25.143546;55.347533
LOCATION:Nad Al Sheba Racecourse\, Nad Al Sheba\, Dubai
END:VEVENT
END:VCALENDAR
