BEGIN:VCALENDAR
VERSION:2.0
PRODID:-//Squarespace Inc/Squarespace 6//v6//EN
BEGIN:VEVENT
UID:5aa89ebf085229a3e2dae250@squarespace.com
DTSTAMP:20190405T011225Z
DTSTART:20191104T230000Z
DTEND:20191105T050000Z
SUMMARY: LEXUS MELBOURNE CUP  FLEMINGTON\, MELBOURNE 
GEO:-37.786666;144.919519
LOCATION:Flemington\, 448 Epsom Rd\, Flemington\, VIC\, 3031\, Australia
END:VEVENT
END:VCALENDAR
