BEGIN:VCALENDAR
VERSION:2.0
PRODID:-//Squarespace Inc/Squarespace 6//v6//EN
BEGIN:VEVENT
UID:544dd4fce4b00b57273b8026@squarespace.com
DTSTAMP:20151117T224516Z
DTSTART:20160110T153000Z
DTEND:20160110T163000Z
SUMMARY:Magic Millions Races<br>Gold Coast
GEO:-28.01726;153.425699
LOCATION:Gold Coast
END:VEVENT
END:VCALENDAR
