BEGIN:VCALENDAR
VERSION:2.0
PRODID:-//Squarespace Inc/Squarespace 6//v6//EN
BEGIN:VEVENT
UID:5aa8960a652dea049833e4f7@squarespace.com
DTSTAMP:20190401T015622Z
DTSTART:20191104T230000Z
DTEND:20191105T050000Z
SUMMARY: THE AGENCY MELBOURNE CUP DAY  ROYAL RANDWICK\, SYDNEY 
GEO:-33.912844;151.2398
LOCATION:Royal Randwick\, Alison Rd\, Sydney NSW 2031\, Sydney
END:VEVENT
END:VCALENDAR
