BEGIN:VCALENDAR
VERSION:2.0
PRODID:-//Squarespace Inc/Squarespace 6//v6//EN
BEGIN:VEVENT
UID:5aa89347e4966b2fc5964868@squarespace.com
DTSTAMP:20190129T062510Z
DTSTART:20191005T233000Z
DTEND:20191006T043000Z
SUMMARY: 2019 NRL GRAND FINAL  ANZ STADIUM\, SYDNEY 
GEO:-33.849317;151.06211
LOCATION:ANZ Stadium\, Edwin Flack Ave\, Sydney Olympic Park\, NSW\, 2127\, 
 Australia
END:VEVENT
END:VCALENDAR
