BEGIN:VCALENDAR
VERSION:2.0
PRODID:-//Squarespace Inc/Squarespace 6//v6//EN
BEGIN:VEVENT
UID:5aa8a04a419202c439244efd@squarespace.com
DTSTAMP:20190405T011236Z
DTSTART:20191106T230000Z
DTEND:20191107T070000Z
SUMMARY:KENNEDY OAKS DAY  FLEMINGTON\, MELBOURNE 
GEO:-37.786666;144.919519
LOCATION:Flemington\, 448 Epsom Rd\, Flemington\, VIC\, 3031\, Australia
END:VEVENT
END:VCALENDAR
