BEGIN:VCALENDAR
VERSION:2.0
PRODID:-//Squarespace Inc/Squarespace 6//v6//EN
BEGIN:VEVENT
UID:5636f73ce4b0bcd8402091af@squarespace.com
DTSTAMP:20190129T060759Z
DTSTART:20190727T090000Z
DTEND:20190727T120000Z
SUMMARY: QANTAS WALLABIES v ARGENTINA SUNCORP STADIUM\, BRISBANE 
GEO:-27.464845;153.009531
LOCATION:Suncorp stadium
END:VEVENT
END:VCALENDAR
