BEGIN:VCALENDAR
VERSION:2.0
PRODID:-//Squarespace Inc/Squarespace 6//v6//EN
BEGIN:VEVENT
UID:57fde0955016e199f9f57762@squarespace.com
DTSTAMP:20191127T001903Z
DTSTART:20200704T083000Z
DTEND:20200704T093000Z
SUMMARY:Qantas Wallabies v Ireland  - Brisbane
GEO:-27.464689;153.009613
LOCATION:Suncorp Stadium\, 40 Castlemaine Street\, Milton\, QLD\, 4064\, Au
 stralia
END:VEVENT
END:VCALENDAR
