BEGIN:VCALENDAR
VERSION:2.0
PRODID:-//Squarespace Inc/Squarespace 6//v6//EN
BEGIN:VEVENT
UID:57fd9caaf5e2319c4dea99b8@squarespace.com
DTSTAMP:20191127T002004Z
DTSTART:20200711T033000Z
DTEND:20200711T043000Z
SUMMARY:Qantas Wallabies v Ireland  - Sydney
GEO:-33.889737;151.223341
LOCATION:Sydney cricket ground\, Driver Avenue\, Moore Park\, NSW\, 2021\, 
 Australia
END:VEVENT
END:VCALENDAR
