BEGIN:VCALENDAR
VERSION:2.0
PRODID:-//Squarespace Inc/Squarespace 6//v6//EN
BEGIN:VEVENT
UID:5aa8a0baec212dd64564548b@squarespace.com
DTSTAMP:20190405T011243Z
DTSTART:20191108T230000Z
DTEND:20191109T070000Z
SUMMARY: SEPPELT WINES STAKES DAY  FLEMINGTON\, MELBOURNE 
GEO:-37.786666;144.919519
LOCATION:Flemington\, 448 Epsom Rd\, Flemington\, VIC\, 3031\, Australia
END:VEVENT
END:VCALENDAR
