BEGIN:VCALENDAR
VERSION:2.0
PRODID:-//Squarespace Inc/Squarespace 6//v6//EN
BEGIN:VEVENT
UID:5d67655481187e000140b612@squarespace.com
DTSTAMP:20190909T105650Z
DTSTART:20200602T230000Z
DTEND:20200603T020000Z
SUMMARY:2020 State of Origin I - Adelaide
GEO:-34.915516;138.596115
LOCATION:Adelaide oval\, Australia
END:VEVENT
END:VCALENDAR
