BEGIN:VCALENDAR
VERSION:2.0
PRODID:-//Squarespace Inc/Squarespace 6//v6//EN
BEGIN:VEVENT
UID:547beb92e4b05b52c36527d0@squarespace.com
DTSTAMP:20190924T032141Z
DTSTART:20200707T233000Z
DTEND:20200708T023000Z
SUMMARY:2020 State of Origin III - Brisbane
GEO:-27.465699;153.010309
LOCATION:Suncorp Stadium\, 40 Castlemaine St\, Milton\, QLD\, 4064\, Austra
 lia
END:VEVENT
END:VCALENDAR
