BEGIN:VCALENDAR
VERSION:2.0
PRODID:-//Squarespace Inc/Squarespace 6//v6//EN
BEGIN:VEVENT
UID:5c3d3adb1ae6cfc6ab239795@squarespace.com
DTSTAMP:20191127T000331Z
DTSTART:20200620T233000Z
DTEND:20200621T023000Z
SUMMARY: 2020 State of Origin II - Sydney
GEO:-33.86882;151.209296
LOCATION:Sydney
END:VEVENT
END:VCALENDAR
