BEGIN:VCALENDAR
VERSION:2.0
PRODID:-//Squarespace Inc/Squarespace 6//v6//EN
BEGIN:VEVENT
UID:5dc201bab67c9f54ac59d28d@squarespace.com
DTSTAMP:20191118T062133Z
DTSTART:20201016T223000Z
DTEND:20201017T012959Z
SUMMARY:BLEDISLOE CUP – Brisbane
GEO:-27.464845;153.009531
LOCATION:Suncorp Stadium
END:VEVENT
END:VCALENDAR
