BEGIN:VCALENDAR
VERSION:2.0
PRODID:-//Squarespace Inc/Squarespace 6//v6//EN
BEGIN:VEVENT
UID:5dc1fcf33c47da773f6f7ff6@squarespace.com
DTSTAMP:20191118T062257Z
DTSTART:20200807T233000Z
DTEND:20200808T022959Z
SUMMARY:BLEDISLOE CUP – Melbourne
GEO:-37.816565;144.947506
LOCATION:Marvel Stadium
END:VEVENT
END:VCALENDAR
