BEGIN:VCALENDAR
VERSION:2.0
PRODID:-//Squarespace Inc/Squarespace 6//v6//EN
BEGIN:VEVENT
UID:547becbfe4b0b93ff706a7ae@squarespace.com
DTSTAMP:20191105T124725Z
DTSTART:20190809T233000Z
DTEND:20190810T022959Z
SUMMARY:QANTAS WALLABIES v ALL BLACKS (BLEDISLOE CUP) OPTUS STADIUM\, PERTH 
GEO:-31.951787;115.888604
LOCATION:Optus Stadium
END:VEVENT
END:VCALENDAR
